BEGIN:VCALENDAR
VERSION:2.0
PRODID:-//110.232.141.250//NONSGML kigkonsult.se iCalcreator 2.26.9//
CALSCALE:GREGORIAN
METHOD:PUBLISH
X-WR-CALNAME:The Entrance Camera Club Inc.
X-WR-CALDESC:Another My Photo Club website
X-FROM-URL:https://theentrance.myphotoclub.com.au
X-WR-TIMEZONE:Australia/Sydney
BEGIN:VTIMEZONE
TZID:Australia/Sydney
X-LIC-LOCATION:Australia/Sydney
BEGIN:STANDARD
DTSTART:20200405T030000
TZOFFSETFROM:+1100
TZOFFSETTO:+1000
RDATE:20210404T030000
TZNAME:AEST
END:STANDARD
BEGIN:DAYLIGHT
DTSTART:20191006T020000
TZOFFSETFROM:+1000
TZOFFSETTO:+1100
RDATE:20201004T020000
TZNAME:AEDT
END:DAYLIGHT
END:VTIMEZONE
BEGIN:VEVENT
UID:ai1ec-2011045@theentrance.myphotoclub.com.au
DTSTAMP:20200301T103733Z
CATEGORIES:
CONTACT:Anthony Spratt\; 0243964964\; tecc_59@hotmail.com
DESCRIPTION:<p><strong>The Club Meeting</strong> is held on the second Frid
 ay evening of each month\,(except January) 7.00pm viewing for an 7.30pm st
 art. At the meeting images which have been submitted for the competitions 
 are critiqued\, judged and awarded. The printed photographs are displayed 
 around the room so after the formal part of the meeting members view & dis
 cuss the entries.</p>
DTSTART;TZID=Australia/Sydney:20191108T190000
DTEND;TZID=Australia/Sydney:20191108T220000
GEO:-33.358373;+151.483198
LOCATION:CWA Hall @ 1 Pacific St\, Long Jetty NSW 2261\, Australia
SEQUENCE:0
SUMMARY:Club Monthly Meeting
URL:https://theentrance.myphotoclub.com.au/event/club-meeting/
X-COST-TYPE:free
END:VEVENT
END:VCALENDAR
